BEGIN:VCALENDAR
VERSION:2.0
PRODID:
CALSCALE:GREGORIAN
METHOD:PUBLISH
BEGIN:VTIMEZONE
TZID:Europe/Berlin
BEGIN:STANDARD
DTSTART:20260504T010000
TZOFFSETTO:+0100
TZOFFSETFROM:+0100RRULE:FREQ=DAILY;COUNT=1
END:STANDARD
BEGIN:DAYLIGHT
DTSTART:20260504T010000
TZOFFSETTO:+0200
TZOFFSETFROM:+0100
END:DAYLIGHT
END:VTIMEZONE
BEGIN:VEVENT
UID:69e8a0530ec2c8.63765403
DTSTART:20260504T123000
DTEND:20260506T143000
STATUS:
SUMMARY:ENERGIETAGE 2026 – Präsenz in Berlin
DESCRIPTION:
LOCATION:Berlin
DTSTAMP:20260422T101755Z
END:VEVENT
END:VCALENDAR
